BEGIN:VCALENDAR
VERSION:2.0
PRODID:DPCALENDAR
CALSCALE:GREGORIAN
X-WR-TIMEZONE:UTC
BEGIN:VEVENT
DTSTART;TZID=UTC:20230219T150000
DTEND;TZID=UTC:20230219T173000
UID:A7C6E745-3501-4D8B-B5D5-C53EED6CDCBA
SUMMARY:     « EXPANDING MY VITALITY» Tantra in Colares (Portugal)
CREATED:20230211T191937Z
DTSTAMP:20230211T191937Z
URL:https://www.skydancingtantra-int.com/events/eu-isolated-events/expanding-my-vitality-tantra-in-colares-portugal
DESCRIPTION:              TANTRA SESSION in Colares! ( Portugal, near Sintra)! \N \N                                                       « EXPANDING MY VITALITY» \N                                                 lead : Mariama, certified SkyDancing Tantra Teacher\N                                     SUNDAY, FEBRUARY the 19th from 3:00 pm to 5:30 pm (Lisbon time).\N \NTANTRA is a path of awakening and exploration that helps us move out of ordinary states to achieve heightened awareness, expanded sensations.\N \N                              Whether you are totally new and curious about tantra, or have already tasted this path, you are all welcome, solo, couples, with friends...\N \NHow to use the 3 keys of SkyDancing Tantra to nourish one's vital energy, one's deep joy, to be more aware of one's old patterns?\N \N Let's meet to experiment alone or in a small group, to taste the joy of connection! \N \NMore info:  martinemas002@yahoo.fr \N+351.961.944.864 ( a telephone interview will take place before the workshop if we don't know each other yet ).\NLocation: Colares (The address will be communicated when you register).\NPrice: 20€ single - 30€ per couple
X-ALT-DESC;FMTTYPE=text/html:<p><strong><span style="color: #800000;">&nbsp; &nbsp; &nbsp; &nbsp; &nbsp; &nbsp; &nbsp; TANTRA SESSION in Colares!</span></strong> <span style="color: #800000;">( Portugal, near Sintra)! </span></p><p>&nbsp;</p><p><strong><span style="color: #800000;">&nbsp; &nbsp; &nbsp; &nbsp; &nbsp; &nbsp; &nbsp; &nbsp; &nbsp; &nbsp; &nbsp; &nbsp; &nbsp; &nbsp; &nbsp; &nbsp; &nbsp; &nbsp; &nbsp; &nbsp; &nbsp; &nbsp; &nbsp; &nbsp; &nbsp; &nbsp; &nbsp; &nbsp;<span style="font-size: 18pt;">« EXPANDING MY VITALITY»</span></span> </strong></p><p>&nbsp; &nbsp; &nbsp; &nbsp; &nbsp; &nbsp; &nbsp; &nbsp; &nbsp; &nbsp; &nbsp; &nbsp; &nbsp; &nbsp; &nbsp; &nbsp; &nbsp; &nbsp; &nbsp; &nbsp; &nbsp; &nbsp; &nbsp; &nbsp;<span style="color: #800000;">&nbsp; lead : Mariama, certified SkyDancing Tantra Teacher</span></p><p><span style="color: #800000;">&nbsp; &nbsp; &nbsp; &nbsp; &nbsp; &nbsp; &nbsp; &nbsp; &nbsp; &nbsp; &nbsp; &nbsp; &nbsp; &nbsp; &nbsp; &nbsp; &nbsp; &nbsp; &nbsp;SUNDAY, FEBRUARY the 19th from 3:00 pm to 5:30 pm (Lisbon time).</span></p><p>&nbsp;</p><p><strong><span style="font-size: 1rem;">TANTRA is a path of awakening and exploration that helps us move out of ordinary states to achieve heightened awareness, expanded sensations.</span></strong></p><p>&nbsp;</p><p><span style="font-size: 1rem;">&nbsp; &nbsp; &nbsp; &nbsp; &nbsp; &nbsp; &nbsp; &nbsp; &nbsp; &nbsp; &nbsp; &nbsp; &nbsp; &nbsp; &nbsp; Whether you are totally new and curious about tantra, or have already tasted this path, you are all welcome, solo, couples, with friends...</span></p><p>&nbsp;</p><p><span style="font-size: 1rem;">How to use the 3 keys of SkyDancing Tantra to nourish one's vital energy, one's deep joy, to be more aware of one's old patterns?</span></p><p>&nbsp;</p><p>&nbsp;<span style="font-size: 1rem;">Let's meet to experiment alone or in a small group, to taste the joy of connection! </span></p><p>&nbsp;</p><p><strong><span style="font-size: 1rem;">More info: &nbsp;</span></strong><a href="mailto:martinemas002@yahoo.fr" style="font-size: 1rem;">martinemas002@yahoo.fr</a><span style="font-size: 1rem;"> </span></p><p><span style="font-size: 1rem;">+351.961.944.864 ( a telephone interview will take place before the workshop if we don't know each other yet ).</span></p><p><span style="font-size: 1rem;"><strong>Location:</strong> Colares (The address will be communicated when you register).</span></p><p><strong>Price: </strong>20€ single - 30€ per couple</p>
LAST-MODIFIED:20230211T221622Z
SEQUENCE:10605
X-ACCESS:1
X-HITS:135
X-COLOR:ff540c
X-IMAGE-FULL:https://www.skydancingtantra-int.com/images/58C7FDAF-E35D-4445-8D3D-7A00B7BC6D9B.jpeg
X-IMAGE-FULL-ALT:   « EXPANDING MY VITALITY» Tantra in Colares (Portugal)
X-IMAGE-FULL-CAPTION:Mariama
X-IMAGE-INTRO:https://www.skydancingtantra-int.com/images/58C7FDAF-E35D-4445-8D3D-7A00B7BC6D9B.jpeg
X-IMAGE-INTRO-ALT:     « EXPANDING MY VITALITY» Tantra in Colares (Portugal)
X-IMAGE-INTRO-CAPTION:Mariama
X-SHOW-END-TIME:0
END:VEVENT
END:VCALENDAR