BEGIN:VCALENDAR
VERSION:2.0
PRODID:DPCALENDAR
CALSCALE:GREGORIAN
X-WR-TIMEZONE:UTC
BEGIN:VEVENT
DTSTART;TZID=UTC:20201111T200000
DTEND;TZID=UTC:20201111T213000
UID:6EA86B1F-3A5F-436D-AC58-F0F67CE245A6
SUMMARY:Be in Touch 
CREATED:20201110T164846Z
DTSTAMP:20201110T164846Z
URL:https://skydancing-tantra.de/771/seminare-events/be-in-touch
DESCRIPTION:Getragen von der Idee, dass unser Online Angebot mit dem rituellen SkyDancing Tantra Rahmen mit Impuls und angeleiteter Praktik auch eine Einladung an die Teilnehmer*innen ist, sich in dieser Ausrichtung untereinander zu verbinden. Unsere Vision: statt uns in Gruppen in einem Seminarraum zu begegnen, entsteht ein tanrisches Feld ohne Raum und Zeit durch viele Begegnungen "zweier Haushalte".\NWir würden uns sehr freuen, wenn sich da ein lebendiger Austausch und ein kraftvolles Miteinander entwickelt.Wir freuen uns auf die gemeinsame Zeit!!
X-ALT-DESC;FMTTYPE=text/html:<p>Getragen von der Idee, dass unser Online&nbsp;Angebot mit&nbsp;dem rituellen SkyDancing Tantra Rahmen mit Impuls und angeleiteter Praktik&nbsp;auch eine Einladung an die Teilnehmer*innen ist, sich in dieser Ausrichtung untereinander zu&nbsp;verbinden. Unsere Vision: statt uns in Gruppen in einem Seminarraum zu begegnen, entsteht ein tanrisches Feld ohne Raum und Zeit durch&nbsp;viele Begegnungen "zweier Haushalte".</p><p><br />Wir würden uns sehr freuen, wenn sich da ein lebendiger Austausch und ein kraftvolles Miteinander entwickelt.<br />Wir freuen uns auf die gemeinsame Zeit!!</p>
LAST-MODIFIED:20201110T170450Z
SEQUENCE:964
X-ACCESS:1
X-HITS:0
X-COLOR:ffaf0e
X-IMAGE-FULL:https://www.skydancingtantra-int.com/images/Events/Germany/Be_in_Touch_11112020.jpg
X-IMAGE-INTRO:https://www.skydancingtantra-int.com/images/Events/Germany/Be_in_Touch_11112020.jpg
X-SHOW-END-TIME:0
END:VEVENT
BEGIN:VEVENT
DTSTART;TZID=UTC:20210310T200000
DTEND;TZID=UTC:20210310T220000
UID:7C3CCC34-81AD-428E-B34C-5B30ABF3BDA4
SUMMARY:Be in Touch Online - Skydancing Praktik / Sexuelles Atmen
CREATED:20210308T161719Z
DTSTAMP:20210308T161719Z
URL:https://skydancing-tantra.de/771/seminare-events/be-in-touch
DESCRIPTION:Wir möchten diese Zeit nutzen, spielerisch und leicht Begegnung neu zu erkunden. Da stellt sich sicher die Frage, ob es überhaupt möglich ist Tantra Seminare online zu gestalten.\NGetragen von der Idee, dass unser Online Angebot mit dem rituellen SkyDancing Tantra Seminarrahmen mit Impuls und angeleiteter Praktik auch eine Einladung an die Teilnehmer*innen ist, sich in dieser Ausrichtung untereinander zu verbinden. Unsere Vision: statt uns in Gruppen in einem Seminarraum zu begegnen, entsteht ein tanrisches Feld ohne Raum und Zeit.
X-ALT-DESC;FMTTYPE=text/html:<p>Wir möchten diese Zeit nutzen, spielerisch und leicht Begegnung neu zu erkunden. Da stellt sich sicher die Frage, ob es überhaupt möglich ist Tantra Seminare online zu gestalten.</p><p>Getragen von der Idee, dass unser Online Angebot mit dem rituellen SkyDancing Tantra Seminarrahmen mit Impuls und angeleiteter Praktik auch eine Einladung an die Teilnehmer*innen ist, sich in dieser Ausrichtung untereinander zu verbinden. Unsere Vision: statt uns in Gruppen in einem Seminarraum zu begegnen, entsteht ein tanrisches Feld ohne Raum und Zeit.</p>
LAST-MODIFIED:20210308T163033Z
SEQUENCE:794
X-ACCESS:1
X-HITS:0
X-COLOR:ffaf0e
X-IMAGE-FULL:https://www.skydancingtantra-int.com/images/Events/Germany/2021/20210310_Rupananda.png
X-IMAGE-FULL-ALT:Be in Touch Online- Skydancing Praktik / Sexuelles Atmen
X-IMAGE-FULL-CAPTION:Ein wunderbarer Abend um SkyDancing Tantra kennenzulernen. 
X-SHOW-END-TIME:0
END:VEVENT
BEGIN:VEVENT
DTSTART;TZID=UTC:20210313T080000
DTEND;TZID=UTC:20210313T100000
UID:0B950C19-1F5B-4DCB-9544-9FE4F9E5D776
SUMMARY:Be in Touch Online - Skydancing Praktik / Quantum Light Breath 
CREATED:20210308T162718Z
DTSTAMP:20210308T162718Z
URL:https://skydancing-tantra.de/771/seminare-events/be-in-touch
DESCRIPTION:Wir möchten diese Zeit nutzen, spielerisch und leicht Begegnung neu zu erkunden. Da stellt sich sicher die Frage, ob es überhaupt möglich ist Tantra Seminare online zu gestalten.\NGetragen von der Idee, dass unser Online Angebot mit dem spirituellen SkyDancing Tantra Seminarrahmen mit Impuls und angeleiteter Praktik auch eine Einladung an die Teilnehmer*innen ist, sich in dieser Ausrichtung untereinander zu verbinden. Unsere Vision: statt uns in Gruppen in einem Seminarraum zu begegnen, entsteht ein tanrisches Feld ohne Raum und Zeit.
X-ALT-DESC;FMTTYPE=text/html:<p>Wir möchten diese Zeit nutzen, spielerisch und leicht Begegnung neu zu erkunden. Da stellt sich sicher die Frage, ob es überhaupt möglich ist Tantra Seminare online zu gestalten.</p><p>Getragen von der Idee, dass unser Online Angebot mit dem spirituellen SkyDancing Tantra Seminarrahmen mit Impuls und angeleiteter Praktik auch eine Einladung an die Teilnehmer*innen ist, sich in dieser Ausrichtung untereinander zu verbinden. Unsere Vision: statt uns in Gruppen in einem Seminarraum zu begegnen, entsteht ein tanrisches Feld ohne Raum und Zeit.</p>
LAST-MODIFIED:20210308T163100Z
SEQUENCE:222
X-ACCESS:1
X-HITS:0
X-COLOR:ffaf0e
X-IMAGE-FULL:https://www.skydancingtantra-int.com/images/Events/Germany/2021/20210310_Rupananda.png
X-IMAGE-FULL-ALT:Be in Touch Online- Skydancing Praktik / Sexuelles Atmen
X-IMAGE-FULL-CAPTION:Begrüße das Wochenende mit der Quantum Light Breath Meditation.
X-IMAGE-INTRO:https://www.skydancingtantra-int.com/images/Events/Germany/2021/20210313_Rupananda.png
X-IMAGE-INTRO-ALT:Be in Touch Online- Skydancing Praktik / Quantum Light Breath
X-IMAGE-INTRO-CAPTION:Begrüße das Wochenende mit der Quantum Light Breath Meditation
X-SHOW-END-TIME:0
END:VEVENT
BEGIN:VEVENT
DTSTART;TZID=UTC:20210314T080000
DTEND;TZID=UTC:20210314T093000
UID:69AA5CD4-74BC-4FF6-A973-E8351520EBA9
SUMMARY:Be in Touch Online - Skydancing Praktik / Kundalini Meditation 
CREATED:20210308T163438Z
DTSTAMP:20210308T163438Z
URL:https://skydancing-tantra.de/771/seminare-events/be-in-touch
DESCRIPTION:Diese Zeit verlangt uns einiges ab. Eine Zeit sich bewusst zu entscheiden was uns gut tut. Wir möchten diese Zeit nutzen, spielerisch und leicht Begegnung neu zu erkunden. Tantra interessiert dich, doch du weißt nicht, was da überhaupt gemacht wird und du hast dich bisher nicht getraut, ein Seminar zu besuchen?  Oder du kennst Tantra und möchtest wieder in diese herzöffnende, spirituelle und lustvolle Energie eintauchen? Dann ist unser Be in Touch genau das richtige für dich. Bei dieser Online Veranstaltung kannst du von zu Hause aus in deinem geschützten Rahmen hineinschnuppern und eintauchen.  Wir würden uns sehr freuen, wenn sich da ein lebendiger Austausch und ein kraftvolles Miteinander entwickelt.Wir freuen uns auf die gemeinsame Zeit! Ort: Zoom, den Zugangslink erhältst du nach der Anmeldung über unsere Internetseite, das Passwort ca. 1-2 Std. vor Beginn Kosten: kostenfrei, über eine Spende freuen wir uns.
X-ALT-DESC;FMTTYPE=text/html:<p>Diese Zeit verlangt uns einiges ab. Eine Zeit sich bewusst zu entscheiden was uns gut tut. Wir möchten diese Zeit nutzen, spielerisch und leicht Begegnung neu zu erkunden.<br /> <br />Tantra interessiert dich, doch du weißt nicht, was da überhaupt gemacht wird und du hast dich bisher nicht getraut, ein Seminar zu besuchen? <br /> <br />Oder du kennst Tantra und möchtest wieder in diese herzöffnende, spirituelle und lustvolle Energie eintauchen?<br /> <br />Dann ist unser Be in Touch genau das richtige für dich. Bei dieser Online Veranstaltung kannst du von zu Hause aus in deinem geschützten Rahmen hineinschnuppern und eintauchen. <br /> <br />Wir würden uns sehr freuen, wenn sich da ein lebendiger Austausch und ein kraftvolles Miteinander entwickelt.<br />Wir freuen uns auf die gemeinsame Zeit!<br /> <br />Ort: Zoom, den Zugangslink erhältst du nach der Anmeldung über unsere Internetseite, das Passwort ca. 1-2 Std. vor Beginn<br /> <br />Kosten: kostenfrei, über eine Spende freuen wir uns.</p>
LAST-MODIFIED:20210308T170012Z
SEQUENCE:1534
X-ACCESS:1
X-HITS:0
X-COLOR:ffaf0e
X-IMAGE-FULL:https://www.skydancingtantra-int.com/images/Events/Germany/2021/20211014_Maike.jpg
X-IMAGE-FULL-ALT:Be in Touch Online- Kundalini Meditation
X-IMAGE-FULL-CAPTION:Starte in den Sonntag mit der Kundalini Meditation
X-IMAGE-INTRO:https://www.skydancingtantra-int.com/images/Events/Germany/2021/20211014_Maike.jpg
X-IMAGE-INTRO-ALT:Be in Touch Online- Kundalini Meditation
X-IMAGE-INTRO-CAPTION:Starte in den Sonntag mit der Kundalini Meditation
X-SHOW-END-TIME:0
END:VEVENT
BEGIN:VEVENT
DTSTART;TZID=UTC:20210317T200000
DTEND;TZID=UTC:20210317T220000
UID:A764638A-727E-4BBB-9AE0-435E2E960303
SUMMARY:Be in Touch Online - Das Sahasrara
CREATED:20210301T154505Z
DTSTAMP:20210301T154505Z
URL:https://skydancing-tantra.de/771/seminare-events/be-in-touch
DESCRIPTION:Wir möchten diese Zeit nutzen, spielerisch und leicht Begegnung neu zu erkunden. Da stellt sich sicher die Frage, ob es überhaupt möglich ist Tantra Seminare online zu gestalten.\NGetragen von der Idee, dass unser Online Angebot mit dem rituellen SkyDancing Tantra Seminarrahmen mit Impuls und angeleiteter Praktik auch eine Einladung an die Teilnehmer*innen ist, sich in dieser Ausrichtung untereinander zu verbinden. Unsere Vision: statt uns in Gruppen in einem Seminarraum zu begegnen, entsteht ein tanrisches Feld ohne Raum und Zeit.
X-ALT-DESC;FMTTYPE=text/html:<p>Wir möchten&nbsp;diese Zeit nutzen, spielerisch und leicht Begegnung neu zu erkunden. Da stellt sich sicher die Frage, ob es überhaupt möglich ist Tantra Seminare online zu gestalten.</p><p>Getragen von der Idee, dass unser Online&nbsp;Angebot mit&nbsp;dem rituellen SkyDancing Tantra Seminarrahmen mit Impuls und angeleiteter Praktik&nbsp;auch eine Einladung an die Teilnehmer*innen ist, sich in dieser Ausrichtung untereinander zu&nbsp;verbinden. Unsere Vision: statt uns in Gruppen in einem Seminarraum zu begegnen, entsteht ein tanrisches Feld ohne Raum und Zeit.</p>
LAST-MODIFIED:20210317T173051Z
SEQUENCE:1388746
X-ACCESS:1
X-HITS:0
X-COLOR:ffaf0e
X-IMAGE-FULL:https://www.skydancingtantra-int.com//images/Events/Germany/2021/20210317_Rupananda.jpg
X-IMAGE-FULL-ALT:Be in Touch Online- Skydancing Praktik / Das Sahasrara
X-IMAGE-FULL-CAPTION:Ein wunderbarer Abend zum Kennenlernen von SkyDancing Tantra und um verbunden zu bleiben
X-IMAGE-INTRO:https://www.skydancingtantra-int.com//images/Events/Germany/2021/20210317s_Rupananda.jpg
X-IMAGE-INTRO-ALT:Be in Touch Online- Skydancing Praktik / Das Sahasrara
X-IMAGE-INTRO-CAPTION:Ein wunderbarer Abend zum Kennenlernen von SkyDancing Tantra und um verbunden zu bleiben
X-SHOW-END-TIME:0
END:VEVENT
BEGIN:VEVENT
DTSTART;TZID=UTC:20210320T080000
DTEND;TZID=UTC:20210320T093000
UID:328B1155-103B-415E-8AEA-498D20506BE4
SUMMARY:Be in Touch Online - Aktive Atemmeditation
CREATED:20210316T123200Z
DTSTAMP:20210316T123200Z
URL:https://skydancing-tantra.de/771/seminare-events/be-in-touch
DESCRIPTION:Wir möchten diese Zeit nutzen, spielerisch und leicht Begegnung neu zu erkunden. Da stellt sich sicher die Frage, ob es überhaupt möglich ist Tantra Seminare online zu gestalten.\NGetragen von der Idee, dass unser Online Angebot mit dem rituellen SkyDancing Tantra Seminarrahmen mit Impuls und angeleiteter Praktik auch eine Einladung an die Teilnehmer*innen ist, sich in dieser Ausrichtung untereinander zu verbinden. Unsere Vision: statt uns in Gruppen in einem Seminarraum zu begegnen, entsteht ein tanrisches Feld ohne Raum und Zeit.
X-ALT-DESC;FMTTYPE=text/html:<p>Wir möchten&nbsp;diese Zeit nutzen, spielerisch und leicht Begegnung neu zu erkunden. Da stellt sich sicher die Frage, ob es überhaupt möglich ist Tantra Seminare online zu gestalten.</p><p>Getragen von der Idee, dass unser Online&nbsp;Angebot mit&nbsp;dem rituellen SkyDancing Tantra Seminarrahmen mit Impuls und angeleiteter Praktik&nbsp;auch eine Einladung an die Teilnehmer*innen ist, sich in dieser Ausrichtung untereinander zu&nbsp;verbinden. Unsere Vision: statt uns in Gruppen in einem Seminarraum zu begegnen, entsteht ein tanrisches Feld ohne Raum und Zeit.</p>
LAST-MODIFIED:20210317T173257Z
SEQUENCE:104457
X-ACCESS:1
X-HITS:1
X-COLOR:ffaf0e
X-IMAGE-FULL:https://www.skydancingtantra-int.com//images/Events/Germany/2021/200320_Rupananda.jpg
X-IMAGE-FULL-ALT:Be in Touch Online- Aktive Atemmeditation
X-IMAGE-FULL-CAPTION:Eine Morgenmeditation zum Kennenlernen von SkyDancing Tantra und um verbunden zu bleiben
X-IMAGE-INTRO:https://www.skydancingtantra-int.com//images/Events/Germany/2021/200320s_Rupananda.jpg
X-IMAGE-INTRO-ALT:Be in Touch Online - Aktive Atemmeditation
X-IMAGE-INTRO-CAPTION:Eine Morgenmeditation zum Kennenlernen von SkyDancing Tantra und um verbunden zu bleiben
X-SHOW-END-TIME:0
END:VEVENT
BEGIN:VEVENT
DTSTART;TZID=UTC:20210321T080000
DTEND;TZID=UTC:20210321T093000
UID:983102AC-49FE-4871-86F7-C6A4B55959E6
SUMMARY:Be in Touch Online - Kundalini Meditation
CREATED:20210316T123407Z
DTSTAMP:20210316T123407Z
URL:https://skydancing-tantra.de/771/seminare-events/be-in-touch
DESCRIPTION:Wir möchten diese Zeit nutzen, spielerisch und leicht Begegnung neu zu erkunden. Da stellt sich sicher die Frage, ob es überhaupt möglich ist Tantra Seminare online zu gestalten.\NGetragen von der Idee, dass unser Online Angebot mit dem rituellen SkyDancing Tantra Seminarrahmen mit Impuls und angeleiteter Praktik auch eine Einladung an die Teilnehmer*innen ist, sich in dieser Ausrichtung untereinander zu verbinden. Unsere Vision: statt uns in Gruppen in einem Seminarraum zu begegnen, entsteht ein tanrisches Feld ohne Raum und Zeit.
X-ALT-DESC;FMTTYPE=text/html:<p>Wir möchten&nbsp;diese Zeit nutzen, spielerisch und leicht Begegnung neu zu erkunden. Da stellt sich sicher die Frage, ob es überhaupt möglich ist Tantra Seminare online zu gestalten.</p><p>Getragen von der Idee, dass unser Online&nbsp;Angebot mit&nbsp;dem rituellen SkyDancing Tantra Seminarrahmen mit Impuls und angeleiteter Praktik&nbsp;auch eine Einladung an die Teilnehmer*innen ist, sich in dieser Ausrichtung untereinander zu&nbsp;verbinden. Unsere Vision: statt uns in Gruppen in einem Seminarraum zu begegnen, entsteht ein tanrisches Feld ohne Raum und Zeit.</p>
LAST-MODIFIED:20210317T173521Z
SEQUENCE:104474
X-ACCESS:1
X-HITS:0
X-COLOR:ffaf0e
X-IMAGE-FULL:https://www.skydancingtantra-int.com/images/Events/Germany/2021/210321_Maike.jpg
X-IMAGE-FULL-ALT:Be in Touch Online- Skydancing Praktik / Kundalini Meditation
X-IMAGE-FULL-CAPTION:Eine Morgenmeditation zum Kennenlernen von SkyDancing Tantra und um verbunden zu bleiben
X-IMAGE-INTRO:https://www.skydancingtantra-int.com/images/Events/Germany/2021/210321s_Maike.jpg
X-IMAGE-INTRO-ALT:Be in Touch Online- Skydancing Praktik / Kundalini Meditation
X-IMAGE-INTRO-CAPTION:Eine Morgenmeditation zum Kennenlernen von SkyDancing Tantra und um verbunden zu bleiben
X-SHOW-END-TIME:0
END:VEVENT
BEGIN:VEVENT
DTSTART;TZID=UTC:20210425T080000
DTEND;TZID=UTC:20210425T100000
UID:3FAEC999-2F15-4CCF-86FF-B38B5067967D
SUMMARY:Be in Touch Sunday - Sufi Breathing Meditation und Come Together
CREATED:20210421T100241Z
DTSTAMP:20210421T100241Z
URL:https://skydancing-tantra.de/771/seminare-events/be-in-touch
DESCRIPTION:Gemeinsam meditieren, inspirieren und frühstücken.\NKostenfreies Onlineevent mit Rupananda und Maike\NWir möchten diese Zeit nutzen, spielerisch und leicht Begegnung neu zu erkunden. Da stellt sich sicher die Frage, ob es überhaupt möglich ist Tantra Seminare online zu gestalten.\NGetragen von der Idee, dass unser Online Angebot mit dem rituellen SkyDancing Tantra Seminarrahmen mit Impuls und angeleiteter Praktik auch eine Einladung an die Teilnehmer*innen ist, sich in dieser Ausrichtung untereinander zu verbinden. Unsere Vision: statt uns in Gruppen in einem Seminarraum zu begegnen, entsteht ein tanrisches Feld ohne Raum und Zeit.\NAblauf:gemeinsame MeditationPause zur Vorbereitung (Tee/Kaffee/...Notizmöglichkeiten)Kleiner Impuls im gemeinsamen RaumAustausch in Kleingruppen/BreakpoutsZusammenkommen gemeinsamen RaumAbschluss\NOrt: Zoomden Zugangslink erhältst du nach der Anmeldung,das Passwort ca. 1-2 Std. vor Beginn\NKosten: kostenfrei, über eine Spende freuen wir uns.
X-ALT-DESC;FMTTYPE=text/html:<h3>Gemeinsam meditieren, inspirieren und frühstücken.</h3><p><strong>Kostenfreies Onlineevent mit Rupananda und Maike</strong></p><p>Wir möchten diese Zeit nutzen, spielerisch und leicht Begegnung neu zu erkunden. Da stellt sich sicher die Frage, ob es überhaupt möglich ist Tantra Seminare online zu gestalten.</p><p>Getragen von der Idee, dass unser Online Angebot mit dem rituellen SkyDancing Tantra Seminarrahmen mit Impuls und angeleiteter Praktik auch eine Einladung an die Teilnehmer*innen ist, sich in dieser Ausrichtung untereinander zu verbinden. Unsere Vision: statt uns in Gruppen in einem Seminarraum zu begegnen, entsteht ein tanrisches Feld ohne Raum und Zeit.</p><p><strong>Ablauf:</strong><br />gemeinsame Meditation<br />Pause zur Vorbereitung (Tee/Kaffee/...Notizmöglichkeiten)<br />Kleiner Impuls im gemeinsamen Raum<br />Austausch in Kleingruppen/Breakpouts<br />Zusammenkommen gemeinsamen Raum<br />Abschluss</p><p><strong>Ort: Zoom</strong><br />den Zugangslink erhältst du nach der Anmeldung,<br />das Passwort ca. 1-2 Std. vor Beginn</p><p><strong>Kosten: kostenfrei, über eine Spende freuen wir uns.</strong></p>
LAST-MODIFIED:20210424T121755Z
SEQUENCE:267314
X-ACCESS:1
X-HITS:75
X-COLOR:ffaf0e
X-IMAGE-FULL:https://www.skydancingtantra-int.com/images/Events/Germany/2021/20210425_Sunday_1200.jpg
X-IMAGE-FULL-ALT:Be in Touch Sunday - Sufi Breathing Meditation und Come Together
X-IMAGE-FULL-CAPTION:Rupananda und Maike.
X-IMAGE-INTRO:https://www.skydancingtantra-int.com/images/Events/Germany/2021/20210425_Sunday_1200s.jpg
X-IMAGE-INTRO-ALT:Be in Touch Sunday - Sufi Breathing Meditation und Come Together
X-IMAGE-INTRO-CAPTION:Rupananda und Maike.
X-SHOW-END-TIME:0
END:VEVENT
END:VCALENDAR